BEGIN:VCALENDAR
VERSION:2.0
PRODID:-//Plone.org//NONSGML plone.app.event//EN
X-WR-TIMEZONE:Africa/Johannesburg
BEGIN:VEVENT
SUMMARY:2024 International Conference on Mathematical Methods and Models i
 n Biosciences (Biomath)
DTSTART;TZID=Africa/Johannesburg:20240618T150000
DTEND;TZID=Africa/Johannesburg:20240618T160000
DTSTAMP:20260420T121549Z
UID:6ed7dae33ac14563a299c8d31769d642@167.172.48.169:8080
CATEGORIES:Biomath,2024 International Conference on Mathematical Methods a
 nd Models in Biosciences
CONTACT:https://www.up.ac.za/cf-biomath2024/
CREATED:20250908T133541Z
LAST-MODIFIED:20250909T061155Z
LOCATION:Cutty Sark Resort\, Scottburgh
URL:https://p22.juizi.com/nithecs/events/2024-international-conference-on-
 mathematical-methods-and-models-in-biosciences-biomath/2024-06-18
END:VEVENT
BEGIN:VTIMEZONE
TZID:Africa/Johannesburg
X-LIC-LOCATION:Africa/Johannesburg
BEGIN:STANDARD
DTSTART:19440319T010000
TZNAME:SAST
TZOFFSETFROM:+0300
TZOFFSETTO:+0200
END:STANDARD
END:VTIMEZONE
END:VCALENDAR
