BEGIN:VCALENDAR
VERSION:2.0
PRODID:-//Plone.org//NONSGML plone.app.event//EN
X-WR-TIMEZONE:Africa/Johannesburg
BEGIN:VEVENT
SUMMARY:2024 South Africa Blockchain in Education Symposium and Hackathon 
 ‘The Impact of Blockchain Technology on Education’
DTSTART;TZID=Africa/Johannesburg:20240206T110000
DTEND;TZID=Africa/Johannesburg:20240206T120000
DTSTAMP:20260420T170953Z
UID:c0157be279ad4deb9198e57d207c1794@167.172.48.169:8080
CATEGORIES:2024 South Africa Blockchain in Education Symposium and Hackath
 on,Hackathon
CONTACT:https://summit.immersiveeducation.org/SouthAfrica/2024/overview.ht
 ml
CREATED:20250908T095746Z
LAST-MODIFIED:20250909T061357Z
URL:https://p22.juizi.com/nithecs/events/2024-south-africa-blockchain-in-e
 ducation-symposium-and-hackathon-the-impact-of-blockchain-technology-on-ed
 ucation
END:VEVENT
BEGIN:VTIMEZONE
TZID:Africa/Johannesburg
X-LIC-LOCATION:Africa/Johannesburg
BEGIN:STANDARD
DTSTART:19440319T010000
TZNAME:SAST
TZOFFSETFROM:+0300
TZOFFSETTO:+0200
END:STANDARD
END:VTIMEZONE
END:VCALENDAR
