BEGIN:VCALENDAR
VERSION:2.0
PRODID:-//Plone.org//NONSGML plone.app.event//EN
X-WR-TIMEZONE:Africa/Johannesburg
BEGIN:VEVENT
SUMMARY:3MC: African Mathematical School on Quantitative Biology: Applicat
 ions in Epidemiology\, Ecology and Cancer
DTSTART;TZID=Africa/Johannesburg:20240219T120000
DTEND;TZID=Africa/Johannesburg:20240219T130000
DTSTAMP:20260420T211921Z
UID:a887ce4d1612434ab6d3196e79830a9c@167.172.48.169:8080
RRULE:FREQ=DAILY;UNTIL=20240227T110000Z;INTERVAL=1
CATEGORIES:3MC,3MC: African Mathematical School on Quantitative Biology: A
 pplications in Epidemiology\, Ecology and Cancer
CONTACT:https://natural-sciences.nwu.ac.za/paa/3MC-School-2024
CREATED:20250908T100603Z
LAST-MODIFIED:20250909T061356Z
LOCATION:North West University\, Potchefstroom Campus
URL:https://p22.juizi.com/nithecs/events/3mc-african-mathematical-school-o
 n-quantitative-biology-applications-in-epidemiology-ecology-and-cancer
END:VEVENT
BEGIN:VTIMEZONE
TZID:Africa/Johannesburg
X-LIC-LOCATION:Africa/Johannesburg
BEGIN:STANDARD
DTSTART:19440319T010000
TZNAME:SAST
TZOFFSETFROM:+0300
TZOFFSETTO:+0200
END:STANDARD
END:VTIMEZONE
END:VCALENDAR
