BEGIN:VCALENDAR
VERSION:2.0
PRODID:-//Plone.org//NONSGML plone.app.event//EN
X-WR-TIMEZONE:Africa/Johannesburg
BEGIN:VEVENT
SUMMARY:3MC: International Conference on Mathematical Modeling in Biology 
 and Life Sciences
DTSTART;VALUE=DATE:20240228
DTEND;VALUE=DATE:20240229
DTSTAMP:20260420T220241Z
UID:29d77b2aa64c4dacbb2b57e6bd7a17b4@167.172.48.169:8080
RRULE:FREQ=DAILY;UNTIL=20240301T110000Z;INTERVAL=1
CATEGORIES:3MC,3MC: International Conference on Mathematical Modeling in B
 iology and Life Sciences​
CONTACT:https://natural-sciences.nwu.ac.za/paa/3MC-Conference-2024
CREATED:20250908T101224Z
LAST-MODIFIED:20250909T061259Z
URL:https://p22.juizi.com/nithecs/events/3mc-international-conference-on-m
 athematical-modeling-in-biology-and-life-sciences
END:VEVENT
END:VCALENDAR
