BEGIN:VCALENDAR
VERSION:2.0
PRODID:-//Plone.org//NONSGML plone.app.event//EN
X-WR-TIMEZONE:Africa/Johannesburg
BEGIN:VEVENT
SUMMARY:Annual Principal Investigators’ Summit: Yearly Research Programm
 e Review and Reflections
DTSTART;TZID=Africa/Johannesburg:20231124T050000
DTEND;TZID=Africa/Johannesburg:20231124T060000
DTSTAMP:20260420T123330Z
UID:9f9f3ad3c611433193e577bc1fcb91a6@167.172.48.169:8080
CREATED:20250821T033614Z
LAST-MODIFIED:20250908T091429Z
URL:https://p22.juizi.com/nithecs/events/annual-principal-investigators-su
 mmit-yearly-research-programme-review-and-reflections
END:VEVENT
BEGIN:VTIMEZONE
TZID:Africa/Johannesburg
X-LIC-LOCATION:Africa/Johannesburg
BEGIN:STANDARD
DTSTART:19440319T010000
TZNAME:SAST
TZOFFSETFROM:+0300
TZOFFSETTO:+0200
END:STANDARD
END:VTIMEZONE
END:VCALENDAR
