BEGIN:VCALENDAR
VERSION:2.0
PRODID:-//Plone.org//NONSGML plone.app.event//EN
X-WR-TIMEZONE:Africa/Johannesburg
BEGIN:VEVENT
SUMMARY:Cornell University & NITheCS Workshop/Short Course ‘Building dyn
 amic human-environment games’
DTSTART;TZID=Africa/Johannesburg:20240604T150000
DTEND;TZID=Africa/Johannesburg:20240604T160000
DTSTAMP:20260420T133857Z
UID:72eaa63e65d1424395ae72d91ac086c0@167.172.48.169:8080
RRULE:FREQ=DAILY;UNTIL=20240607T140000Z;INTERVAL=1
CATEGORIES:Cornell University & NITheCS Workshop/Short Course
CONTACT:Andrew Reid Bell (Cornell University\, USA) and Cang Hui (Stellenb
 osch University)
CREATED:20250908T132445Z
LAST-MODIFIED:20250909T061157Z
URL:https://p22.juizi.com/nithecs/events/cornell-university-nithecs-worksh
 op-short-course-building-dynamic-human-environment-games
END:VEVENT
BEGIN:VTIMEZONE
TZID:Africa/Johannesburg
X-LIC-LOCATION:Africa/Johannesburg
BEGIN:STANDARD
DTSTART:19440319T010000
TZNAME:SAST
TZOFFSETFROM:+0300
TZOFFSETTO:+0200
END:STANDARD
END:VTIMEZONE
END:VCALENDAR
