BEGIN:VCALENDAR
VERSION:2.0
PRODID:-//Plone.org//NONSGML plone.app.event//EN
X-WR-TIMEZONE:Africa/Johannesburg
BEGIN:VEVENT
SUMMARY:NITheCS Mini-workshop‘Exploring Theoretical Work at the Joint In
 stitute for Nuclear Research (JINR)’
DTSTART;TZID=Africa/Johannesburg:20231211T050000
DTEND;TZID=Africa/Johannesburg:20231211T060000
DTSTAMP:20260420T152544Z
UID:b6b1fd8b11cd437ea2931c04fa7c5f3d@167.172.48.169:8080
CATEGORIES:NITheCS Mini-workshop
CONTACT:Prof Nikolai Antonenko (BLTP\, JINR\, Russia)\, Dr Gurgen Adamian 
 (BLTP\, JINR\, Russia) & Prof Sergei Rakitianski (University of Pretoria)
CREATED:20250821T031625Z
LAST-MODIFIED:20250908T092132Z
URL:https://p22.juizi.com/nithecs/events/exploring-theoretical-work-at-the
 -joint-institute-for-nuclear-research-jinr
END:VEVENT
BEGIN:VTIMEZONE
TZID:Africa/Johannesburg
X-LIC-LOCATION:Africa/Johannesburg
BEGIN:STANDARD
DTSTART:19440319T010000
TZNAME:SAST
TZOFFSETFROM:+0300
TZOFFSETTO:+0200
END:STANDARD
END:VTIMEZONE
END:VCALENDAR
