BEGIN:VCALENDAR
VERSION:2.0
PRODID:-//Plone.org//NONSGML plone.app.event//EN
X-WR-TIMEZONE:Africa/Johannesburg
BEGIN:VEVENT
SUMMARY:ICCSSA & NITheCS Online Short Course ‘Data Literacy is the next 
 fundamental skill… are we ready?’
DTSTART;TZID=Africa/Johannesburg:20240521T140000
DTEND;TZID=Africa/Johannesburg:20240521T150000
DTSTAMP:20260420T151301Z
UID:207cd7af5bc74897ac6fcbb9402ea14d@167.172.48.169:8080
CATEGORIES:ICCSSA & NITheCS Online Short Course
CONTACT:Dr Warren Brettenny (Matrix Design Africa\; Decision Intelligence 
 Team)
CREATED:20250908T130033Z
LAST-MODIFIED:20250909T061202Z
URL:https://p22.juizi.com/nithecs/events/iccssa-nithecs-online-short-cours
 e-data-literacy-is-the-next-fundamental-skill-are-we-ready
END:VEVENT
BEGIN:VTIMEZONE
TZID:Africa/Johannesburg
X-LIC-LOCATION:Africa/Johannesburg
BEGIN:STANDARD
DTSTART:19440319T010000
TZNAME:SAST
TZOFFSETFROM:+0300
TZOFFSETTO:+0200
END:STANDARD
END:VTIMEZONE
END:VCALENDAR
