BEGIN:VCALENDAR
VERSION:2.0
PRODID:-//Plone.org//NONSGML plone.app.event//EN
X-WR-TIMEZONE:Africa/Johannesburg
BEGIN:VEVENT
SUMMARY:ICCSSA & NITheCS Online Short Course ‘Data Quality & Data Owners
 hip: Building a Solid Foundation for Data-Driven Success’
DTSTART;TZID=Africa/Johannesburg:20240530T140000
DTEND;TZID=Africa/Johannesburg:20240530T150000
DTSTAMP:20260420T133128Z
UID:e82393a743bf42ba8e8053a31720cf3f@167.172.48.169:8080
CATEGORIES:ICCSSA & NITheCS Online Short Course
CONTACT:Dr Jeanne Fredericks (The Change Hub)
CREATED:20250908T130916Z
LAST-MODIFIED:20250909T061159Z
URL:https://p22.juizi.com/nithecs/events/iccssa-nithecs-online-short-cours
 e-data-quality-data-ownership-building-a-solid-foundation-for-data-driven-
 success
END:VEVENT
BEGIN:VTIMEZONE
TZID:Africa/Johannesburg
X-LIC-LOCATION:Africa/Johannesburg
BEGIN:STANDARD
DTSTART:19440319T010000
TZNAME:SAST
TZOFFSETFROM:+0300
TZOFFSETTO:+0200
END:STANDARD
END:VTIMEZONE
END:VCALENDAR
