BEGIN:VCALENDAR
VERSION:2.0
PRODID:-//Plone.org//NONSGML plone.app.event//EN
X-WR-TIMEZONE:Africa/Johannesburg
BEGIN:VEVENT
SUMMARY:ICCSSA & NITheCS Online Short Course ‘Extracting Actionable Insi
 ghts: Answering the ‘So What’ Question in Data Analysis’
DTSTART;TZID=Africa/Johannesburg:20240523T140000
DTEND;TZID=Africa/Johannesburg:20240523T150000
DTSTAMP:20260420T152410Z
UID:316875152f5c45efa62edac722722a8b@167.172.48.169:8080
CATEGORIES:ICCSSA & NITheCS Online Short Course
CONTACT:Dr Jeanne Fredericks (The Change Hub)
CREATED:20250908T130440Z
LAST-MODIFIED:20250909T061159Z
URL:https://p22.juizi.com/nithecs/events/iccssa-nithecs-online-short-cours
 e-extracting-actionable-insights-answering-the-so-what-question-in-data-an
 alysis
END:VEVENT
BEGIN:VTIMEZONE
TZID:Africa/Johannesburg
X-LIC-LOCATION:Africa/Johannesburg
BEGIN:STANDARD
DTSTART:19440319T010000
TZNAME:SAST
TZOFFSETFROM:+0300
TZOFFSETTO:+0200
END:STANDARD
END:VTIMEZONE
END:VCALENDAR
