BEGIN:VCALENDAR
VERSION:2.0
PRODID:-//Plone.org//NONSGML plone.app.event//EN
X-WR-TIMEZONE:Africa/Johannesburg
BEGIN:VEVENT
SUMMARY:ICCSSA & NITheCS Online Short Course ‘Introduction to GitHub: Fr
 om Basics to Advanced’
DTSTART;TZID=Africa/Johannesburg:20240620T150000
DTEND;TZID=Africa/Johannesburg:20240620T160000
DTSTAMP:20260420T115615Z
UID:4527c1cdb578491c9a49b71ce9e1ab60@167.172.48.169:8080
CATEGORIES:ICCSSA & NITheCS Online Short Course
CONTACT:Dr Gaonyalelwe Maribe (Old Mutual Limited & University of Pretoria
 )
CREATED:20250908T134000Z
LAST-MODIFIED:20250909T061154Z
URL:https://p22.juizi.com/nithecs/events/iccssa-nithecs-online-short-cours
 e-introduction-to-github-from-basics-to-advanced
END:VEVENT
BEGIN:VTIMEZONE
TZID:Africa/Johannesburg
X-LIC-LOCATION:Africa/Johannesburg
BEGIN:STANDARD
DTSTART:19440319T010000
TZNAME:SAST
TZOFFSETFROM:+0300
TZOFFSETTO:+0200
END:STANDARD
END:VTIMEZONE
END:VCALENDAR
