BEGIN:VCALENDAR
VERSION:2.0
PRODID:-//Plone.org//NONSGML plone.app.event//EN
X-WR-TIMEZONE:Africa/Johannesburg
BEGIN:VEVENT
SUMMARY:ICCSSA & NITheCS Online Short Course ‘Introduction to QGIS for S
 patial Statistics’
DTSTART;TZID=Africa/Johannesburg:20240606T150000
DTEND;TZID=Africa/Johannesburg:20240606T160000
DTSTAMP:20260420T133857Z
UID:e1d436801d314daabbfb2d9b523284e8@167.172.48.169:8080
CATEGORIES:ICCSSA & NITheCS Online Short Course
CONTACT:Dr Renate Thiede (University of Pretoria)
CREATED:20250908T132320Z
LAST-MODIFIED:20250909T061157Z
URL:https://p22.juizi.com/nithecs/events/iccssa-nithecs-online-short-cours
 e-introduction-to-qgis-for-spatial-statistics
END:VEVENT
BEGIN:VTIMEZONE
TZID:Africa/Johannesburg
X-LIC-LOCATION:Africa/Johannesburg
BEGIN:STANDARD
DTSTART:19440319T010000
TZNAME:SAST
TZOFFSETFROM:+0300
TZOFFSETTO:+0200
END:STANDARD
END:VTIMEZONE
END:VCALENDAR
