BEGIN:VCALENDAR
VERSION:2.0
PRODID:-//Plone.org//NONSGML plone.app.event//EN
X-WR-TIMEZONE:Africa/Johannesburg
BEGIN:VEVENT
SUMMARY:Imperial College-AIMS Connect Partnership Seed Workshop and Resear
 ch Kickoff
DTSTART;TZID=Africa/Johannesburg:20240614T150000
DTEND;TZID=Africa/Johannesburg:20240614T160000
DTSTAMP:20260420T121205Z
UID:2ea64d7bd9ba4c08ae564222f7bfac38@167.172.48.169:8080
CATEGORIES:Imperial College-AIMS Connect Partnership Seed Workshop and Res
 earch Kickoff
CONTACT:https://www.ma.imperial.ac.uk/~apal4/aims.html
CREATED:20250908T132858Z
LAST-MODIFIED:20250909T061156Z
LOCATION:African Institute for Mathematical Sciences (AIMS)\, Muizenberg
URL:https://p22.juizi.com/nithecs/events/imperial-college-aims-connect-par
 tnership-seed-workshop-and-research-kickoff/2024-06-14
END:VEVENT
BEGIN:VTIMEZONE
TZID:Africa/Johannesburg
X-LIC-LOCATION:Africa/Johannesburg
BEGIN:STANDARD
DTSTART:19440319T010000
TZNAME:SAST
TZOFFSETFROM:+0300
TZOFFSETTO:+0200
END:STANDARD
END:VTIMEZONE
END:VCALENDAR
