BEGIN:VCALENDAR
VERSION:2.0
PRODID:-//Plone.org//NONSGML plone.app.event//EN
X-WR-TIMEZONE:Africa/Johannesburg
BEGIN:VEVENT
SUMMARY:Inaugural NITheCS Western Cape Associates’ Meeting
DTSTART;TZID=Africa/Johannesburg:20240715T150000
DTEND;TZID=Africa/Johannesburg:20240715T160000
DTSTAMP:20260420T105124Z
UID:8b113a2e17a34ff99d8c549ed83f8c23@167.172.48.169:8080
CATEGORIES:Inaugural NITheCS Western Cape Associates’ Meeting
CONTACT:Prof Will Horowitz (University of Cape Town)
CREATED:20250908T150550Z
LAST-MODIFIED:20250909T061119Z
URL:https://p22.juizi.com/nithecs/events/inaugural-nithecs-western-cape-as
 sociates-meeting
END:VEVENT
BEGIN:VTIMEZONE
TZID:Africa/Johannesburg
X-LIC-LOCATION:Africa/Johannesburg
BEGIN:STANDARD
DTSTART:19440319T010000
TZNAME:SAST
TZOFFSETFROM:+0300
TZOFFSETTO:+0200
END:STANDARD
END:VTIMEZONE
END:VCALENDAR
