BEGIN:VCALENDAR
VERSION:2.0
PRODID:-//Plone.org//NONSGML plone.app.event//EN
X-WR-TIMEZONE:Africa/Johannesburg
BEGIN:VEVENT
SUMMARY:International Symposium on Modern Statistics and Biostatistics
DTSTART;TZID=Africa/Johannesburg:20240626T150000
DTEND;TZID=Africa/Johannesburg:20240626T160000
DTSTAMP:20260420T103223Z
UID:286cf6a900644cc58e4e9f77cbe55835@167.172.48.169:8080
RRULE:FREQ=DAILY;UNTIL=20240628T140000Z;INTERVAL=1
CONTACT:https://www.up.ac.za/cf-symposium2024
CREATED:20250908T135742Z
DESCRIPTION:The symposium aims to upskill local students and academic staf
 f\, with a specific focus on student development. The event will have plen
 ary speakers\, guest speakers\, workshops and postgraduate student present
 ations.\n\n
LAST-MODIFIED:20250909T061154Z
URL:https://p22.juizi.com/nithecs/events/international-symposium-on-modern
 -statistics-and-biostatistics
END:VEVENT
BEGIN:VTIMEZONE
TZID:Africa/Johannesburg
X-LIC-LOCATION:Africa/Johannesburg
BEGIN:STANDARD
DTSTART:19440319T010000
TZNAME:SAST
TZOFFSETFROM:+0300
TZOFFSETTO:+0200
END:STANDARD
END:VTIMEZONE
END:VCALENDAR
