BEGIN:VCALENDAR
VERSION:2.0
PRODID:-//Plone.org//NONSGML plone.app.event//EN
X-WR-TIMEZONE:Africa/Johannesburg
BEGIN:VEVENT
SUMMARY:2023 CHPC National Conference ‘Machine Learning\, Cloud and Quan
 tum Computing: The Changing Landscape of HPC’
DTSTART;TZID=Africa/Johannesburg:20231204T050000
DTEND;TZID=Africa/Johannesburg:20231204T060000
DTSTAMP:20260420T140521Z
UID:5764c69e3dbe4157bd5bc7f820a49ca4@167.172.48.169:8080
RRULE:FREQ=DAILY;UNTIL=20231207T040000Z;INTERVAL=1
CATEGORIES:2023 CHPC National Conference
CONTACT:https://chpcconf.co.za/
CREATED:20250821T031959Z
LAST-MODIFIED:20250908T092020Z
URL:https://p22.juizi.com/nithecs/events/machine-learning-cloud-and-quantu
 m-computing-the-changing-landscape-of-hpc
END:VEVENT
BEGIN:VTIMEZONE
TZID:Africa/Johannesburg
X-LIC-LOCATION:Africa/Johannesburg
BEGIN:STANDARD
DTSTART:19440319T010000
TZNAME:SAST
TZOFFSETFROM:+0300
TZOFFSETTO:+0200
END:STANDARD
END:VTIMEZONE
END:VCALENDAR
