BEGIN:VCALENDAR
VERSION:2.0
PRODID:-//Plone.org//NONSGML plone.app.event//EN
X-WR-TIMEZONE:Africa/Johannesburg
BEGIN:VEVENT
SUMMARY:‘Machine Learning Methods for Materials Science’
DTSTART;VALUE=DATE:20230818
DTEND;VALUE=DATE:20230823
DTSTAMP:20260420T124923Z
UID:475c051bdb7344b3815689dd77539059@167.172.48.169:8080
CATEGORIES:NWU Workshop
CONTACT:https://mesfind.github.io/matgnn/
CREATED:20250821T111224Z
LAST-MODIFIED:20250904T143645Z
LOCATION:NWU Potchefstroom Campus\, Centre for Space Research\, Building G
 5
URL:https://p22.juizi.com/nithecs/events/machine-learning-methods-for-mate
 rials-science
END:VEVENT
END:VCALENDAR
