BEGIN:VCALENDAR
VERSION:2.0
PRODID:-//Plone.org//NONSGML plone.app.event//EN
X-WR-TIMEZONE:Africa/Johannesburg
BEGIN:VEVENT
SUMMARY:MITP & NITheCS Seminar: 'Quantum Simulators as Probes for Vacuum E
 ntanglement in Quantum Field Theory'
DTSTART;TZID=Africa/Johannesburg:20251117T150000
DTEND;TZID=Africa/Johannesburg:20251117T160000
DTSTAMP:20260419T162441Z
UID:c223d06a2df4455fb8835bc2a440c948@167.172.48.169:8080
CONTACT:Dr Adrià Delhom i Latorre (Universidad Complutense de Madrid\, Sp
 ain)
CREATED:20251112T122729Z
LAST-MODIFIED:20260218T061349Z
LOCATION:Online and P213\, Physics Building\,  East Campus\, WITS
URL:https://p22.juizi.com/nithecs/events/mitp-nithecs-seminar-quantum-simu
 lators-as-probes-for-vacuum-entanglement-in-quantum-field-theory
END:VEVENT
BEGIN:VTIMEZONE
TZID:Africa/Johannesburg
X-LIC-LOCATION:Africa/Johannesburg
BEGIN:STANDARD
DTSTART:19440319T010000
TZNAME:SAST
TZOFFSETFROM:+0300
TZOFFSETTO:+0200
END:STANDARD
END:VTIMEZONE
END:VCALENDAR
