BEGIN:VCALENDAR
VERSION:2.0
PRODID:-//Plone.org//NONSGML plone.app.event//EN
X-WR-TIMEZONE:Africa/Johannesburg
BEGIN:VEVENT
SUMMARY:Lunch hour presentation  ‘Music Meets Abstract Mathematics’
DTSTART;TZID=Africa/Johannesburg:20230727T060000
DTEND;TZID=Africa/Johannesburg:20230727T070000
DTSTAMP:20260420T091447Z
UID:93ecc1e118ff4176b4ea2a3030ee421b@167.172.48.169:8080
CATEGORIES:Lunch hour presentation
CREATED:20250821T045146Z
LAST-MODIFIED:20250908T083418Z
URL:https://p22.juizi.com/nithecs/events/music-meets-abstract-mathematics
END:VEVENT
BEGIN:VTIMEZONE
TZID:Africa/Johannesburg
X-LIC-LOCATION:Africa/Johannesburg
BEGIN:STANDARD
DTSTART:19440319T010000
TZNAME:SAST
TZOFFSETFROM:+0300
TZOFFSETTO:+0200
END:STANDARD
END:VTIMEZONE
END:VCALENDAR
