BEGIN:VCALENDAR
VERSION:2.0
PRODID:-//Plone.org//NONSGML plone.app.event//EN
X-WR-TIMEZONE:Africa/Johannesburg
BEGIN:VEVENT
SUMMARY:MUST Deep Learning ‘Bootcamp’
DTSTART;VALUE=DATE:20240129
DTEND;VALUE=DATE:20240130
DTSTAMP:20260420T183453Z
UID:a00bd48138c7491a96f4d2eb1028f415@167.172.48.169:8080
RRULE:FREQ=DAILY;UNTIL=20240202T100000Z;INTERVAL=1
CATEGORIES:MUST Deep Learning ‘Bootcamp’,Bootcamp
CONTACT:Prof Marelie Davel (North-West University) and others
CREATED:20250908T094348Z
LAST-MODIFIED:20250909T061357Z
URL:https://p22.juizi.com/nithecs/events/must-deep-learning-bootcamp
END:VEVENT
END:VCALENDAR
