BEGIN:VCALENDAR
VERSION:2.0
PRODID:-//Plone.org//NONSGML plone.app.event//EN
X-WR-TIMEZONE:Africa/Johannesburg
BEGIN:VEVENT
SUMMARY:NITheCS Bursary Holders’ Workshop
DTSTART;TZID=Africa/Johannesburg:20231201T050000
DTEND;TZID=Africa/Johannesburg:20231201T060000
DTSTAMP:20260420T132943Z
UID:36f17714ad15404e87a44f8995e84e6c@167.172.48.169:8080
CATEGORIES:NITheCS Bursary Holders’ Workshop
CREATED:20250821T033050Z
LAST-MODIFIED:20250908T091728Z
URL:https://p22.juizi.com/nithecs/events/nithecs-bursary-holders-workshop
END:VEVENT
BEGIN:VTIMEZONE
TZID:Africa/Johannesburg
X-LIC-LOCATION:Africa/Johannesburg
BEGIN:STANDARD
DTSTART:19440319T010000
TZNAME:SAST
TZOFFSETFROM:+0300
TZOFFSETTO:+0200
END:STANDARD
END:VTIMEZONE
END:VCALENDAR
