BEGIN:VCALENDAR
VERSION:2.0
PRODID:-//Plone.org//NONSGML plone.app.event//EN
X-WR-TIMEZONE:Africa/Johannesburg
BEGIN:VEVENT
SUMMARY:NITheCS & Carpentries Workshop ‘Data Carpentry (Genomics) Worksh
 op’
DTSTART;TZID=Africa/Johannesburg:20240710T150000
DTEND;TZID=Africa/Johannesburg:20240710T160000
DTSTAMP:20260420T102850Z
UID:1c41da54822341db8a42c2d558c80162@167.172.48.169:8080
CATEGORIES:NITheCS & Carpentries Workshop
CREATED:20250908T150141Z
LAST-MODIFIED:20250909T061120Z
URL:https://p22.juizi.com/nithecs/events/nithecs-carpentries-workshop-data
 -carpentry-genomics-workshop/2024-07-10
END:VEVENT
BEGIN:VTIMEZONE
TZID:Africa/Johannesburg
X-LIC-LOCATION:Africa/Johannesburg
BEGIN:STANDARD
DTSTART:19440319T010000
TZNAME:SAST
TZOFFSETFROM:+0300
TZOFFSETTO:+0200
END:STANDARD
END:VTIMEZONE
END:VCALENDAR
