BEGIN:VCALENDAR
VERSION:2.0
PRODID:-//Plone.org//NONSGML plone.app.event//EN
X-WR-TIMEZONE:Africa/Johannesburg
BEGIN:VEVENT
SUMMARY:NITheCS Mathematical Structures Focus Area Seminar: 'Coherent and 
 Ideal Actions'
DTSTART;TZID=Africa/Johannesburg:20260423T140000
DTEND;TZID=Africa/Johannesburg:20260423T160000
DTSTAMP:20260423T121648Z
UID:ba3ffb506fff430f82df54df73387603@167.172.48.169:8080
CATEGORIES:NITheCS Mathematical Structures Seminar,2026
CONTACT:Prof Giuseppe Metere (University of Palermo\, Italy)
CREATED:20260422T112635Z
LAST-MODIFIED:20260422T112711Z
LOCATION:Stellenbosch University (Room 1006\, Mathematical Sciences & Indu
 strial Psychology Building) & Online
URL:https://p22.juizi.com/nithecs/events/nithecs-mathematical-structures-f
 ocus-area-seminar-coherent-and-ideal-actions
END:VEVENT
BEGIN:VTIMEZONE
TZID:Africa/Johannesburg
X-LIC-LOCATION:Africa/Johannesburg
BEGIN:STANDARD
DTSTART:19440319T010000
TZNAME:SAST
TZOFFSETFROM:+0300
TZOFFSETTO:+0200
END:STANDARD
END:VTIMEZONE
END:VCALENDAR
