BEGIN:VCALENDAR
VERSION:2.0
PRODID:-//Plone.org//NONSGML plone.app.event//EN
X-WR-TIMEZONE:Africa/Johannesburg
BEGIN:VEVENT
SUMMARY:NITheCS Micro-school: 'Notion as a Tool for Academic Productivity'
DTSTART;TZID=Africa/Johannesburg:20260424T120000
DTEND;TZID=Africa/Johannesburg:20260424T123000
DTSTAMP:20260420T173113Z
UID:49efabe7fb48490c9cd924fd08dae78b@167.172.48.169:8080
CATEGORIES:NITheCS Micro-school,2026
CONTACT:Dhiya Dharampal (Stellenbosch University)
CREATED:20260420T135307Z
LAST-MODIFIED:20260420T135436Z
LOCATION:Online
URL:https://p22.juizi.com/nithecs/events/nithecs-micro-school-notion-as-a-
 tool-for-academic-productivity
END:VEVENT
BEGIN:VTIMEZONE
TZID:Africa/Johannesburg
X-LIC-LOCATION:Africa/Johannesburg
BEGIN:STANDARD
DTSTART:19440319T010000
TZNAME:SAST
TZOFFSETFROM:+0300
TZOFFSETTO:+0200
END:STANDARD
END:VTIMEZONE
END:VCALENDAR
