BEGIN:VCALENDAR
VERSION:2.0
PRODID:-//Plone.org//NONSGML plone.app.event//EN
X-WR-TIMEZONE:Africa/Johannesburg
BEGIN:VEVENT
SUMMARY:NITheCS Node and Branch Leaders’ meeting  Eastern Cape and Free 
 State node
DTSTART;TZID=Africa/Johannesburg:20240806T170000
DTEND;TZID=Africa/Johannesburg:20240806T180000
DTSTAMP:20260420T104939Z
UID:a70715419c1a4fbf9e2cfe90fc13ad9f@167.172.48.169:8080
CATEGORIES:Eastern Cape and Free State node
CREATED:20250908T153246Z
LAST-MODIFIED:20250909T061117Z
URL:https://p22.juizi.com/nithecs/events/nithecs-node-and-branch-leaders-m
 eeting-eastern-cape-and-free-state-node
END:VEVENT
BEGIN:VTIMEZONE
TZID:Africa/Johannesburg
X-LIC-LOCATION:Africa/Johannesburg
BEGIN:STANDARD
DTSTART:19440319T010000
TZNAME:SAST
TZOFFSETFROM:+0300
TZOFFSETTO:+0200
END:STANDARD
END:VTIMEZONE
END:VCALENDAR
