BEGIN:VCALENDAR
VERSION:2.0
PRODID:-//Plone.org//NONSGML plone.app.event//EN
X-WR-TIMEZONE:Africa/Johannesburg
BEGIN:VEVENT
SUMMARY:NITheCS & QSUN Seminar: 'Interferometric Variational Quantum Learn
 ing Model'
DTSTART;TZID=Africa/Johannesburg:20260424T140000
DTEND;TZID=Africa/Johannesburg:20260424T150000
DTSTAMP:20260423T121540Z
UID:a812970b1a6b4417a956c7da51f4977e@167.172.48.169:8080
CATEGORIES:NITheCS & QSUN Seminar,2026
CONTACT:Prof Fernando M de Paula Neto  (Federal University of Pernambuco\,
  Brazil)
CREATED:20260420T141930Z
LAST-MODIFIED:20260420T141930Z
LOCATION:NITheCS Seminar Room\, Stellenbosch University\, and online
URL:https://p22.juizi.com/nithecs/events/nithecs-qsun-seminar-interferomet
 ric-variational-quantum-learning-model
END:VEVENT
BEGIN:VTIMEZONE
TZID:Africa/Johannesburg
X-LIC-LOCATION:Africa/Johannesburg
BEGIN:STANDARD
DTSTART:19440319T010000
TZNAME:SAST
TZOFFSETFROM:+0300
TZOFFSETTO:+0200
END:STANDARD
END:VTIMEZONE
END:VCALENDAR
