BEGIN:VCALENDAR
VERSION:2.0
PRODID:-//Plone.org//NONSGML plone.app.event//EN
X-WR-TIMEZONE:Africa/Johannesburg
BEGIN:VEVENT
SUMMARY:6th ATMRESET Workshop  ‘Numerical methods and machine learning o
 n Atmospheric Science’
DTSTART;TZID=Africa/Johannesburg:20230918T060000
DTEND;TZID=Africa/Johannesburg:20230918T070000
DTSTAMP:20260420T120308Z
UID:86c3378bacbe4e91abc1ed1c661bcf3d@167.172.48.169:8080
RRULE:FREQ=DAILY;UNTIL=20230919T050000Z;INTERVAL=1
CATEGORIES:6th ATMRESET Workshop
CREATED:20250821T042505Z
LAST-MODIFIED:20250908T085155Z
URL:https://p22.juizi.com/nithecs/events/numerical-methods-and-machine-lea
 rning-on-atmospheric-science
END:VEVENT
BEGIN:VTIMEZONE
TZID:Africa/Johannesburg
X-LIC-LOCATION:Africa/Johannesburg
BEGIN:STANDARD
DTSTART:19440319T010000
TZNAME:SAST
TZOFFSETFROM:+0300
TZOFFSETTO:+0200
END:STANDARD
END:VTIMEZONE
END:VCALENDAR
