BEGIN:VCALENDAR
VERSION:2.0
PRODID:-//Plone.org//NONSGML plone.app.event//EN
X-WR-TIMEZONE:Africa/Johannesburg
BEGIN:VEVENT
SUMMARY:Optics and Photonics Africa Congress (OPA2023)
DTSTART;TZID=Africa/Johannesburg:20231110T050000
DTEND;TZID=Africa/Johannesburg:20231110T060000
DTSTAMP:20260420T120711Z
UID:c766c4eac30e4d15bd4130f3d4552245@167.172.48.169:8080
CATEGORIES:OPA2023,Optics and Photonics Africa Congress (OPA2023)
CONTACT:https://opa2023.com/
CREATED:20250821T034932Z
LAST-MODIFIED:20250908T090939Z
URL:https://p22.juizi.com/nithecs/events/optics-and-photonics-africa-congr
 ess-opa2023/2023-11-10
END:VEVENT
BEGIN:VTIMEZONE
TZID:Africa/Johannesburg
X-LIC-LOCATION:Africa/Johannesburg
BEGIN:STANDARD
DTSTART:19440319T010000
TZNAME:SAST
TZOFFSETFROM:+0300
TZOFFSETTO:+0200
END:STANDARD
END:VTIMEZONE
END:VCALENDAR
