BEGIN:VCALENDAR
VERSION:2.0
PRODID:-//Plone.org//NONSGML plone.app.event//EN
X-WR-TIMEZONE:Africa/Johannesburg
BEGIN:VEVENT
SUMMARY:Quantum Information Workshop 2024 ‘Applications of Quantum Infor
 mation in Astrophysics and Cosmology’
DTSTART;TZID=Africa/Johannesburg:20240205T110000
DTEND;TZID=Africa/Johannesburg:20240205T120000
DTSTAMP:20260420T155519Z
UID:399814140b05480b997bd6b49e200a9a@167.172.48.169:8080
RRULE:FREQ=DAILY;UNTIL=20240207T100000Z;INTERVAL=1
CATEGORIES:Quantum Information Workshop 2024
CONTACT:https://indico.global/event/13395/overview
CREATED:20250908T095633Z
LAST-MODIFIED:20250909T061356Z
URL:https://p22.juizi.com/nithecs/events/quantum-information-workshop-2024
 -applications-of-quantum-information-in-astrophysics-and-cosmology
END:VEVENT
BEGIN:VTIMEZONE
TZID:Africa/Johannesburg
X-LIC-LOCATION:Africa/Johannesburg
BEGIN:STANDARD
DTSTART:19440319T010000
TZNAME:SAST
TZOFFSETFROM:+0300
TZOFFSETTO:+0200
END:STANDARD
END:VTIMEZONE
END:VCALENDAR
