BEGIN:VCALENDAR
VERSION:2.0
PRODID:-//Plone.org//NONSGML plone.app.event//EN
X-WR-TIMEZONE:Africa/Johannesburg
BEGIN:VEVENT
SUMMARY:Sixth Mandelstam Theoretical Physics School and Workshop 2024 ‘R
 ecent Developments in Large N\, Holography\, and Complexity’
DTSTART;VALUE=DATE:20240112
DTEND;VALUE=DATE:20240113
DTSTAMP:20260420T152543Z
UID:9cc093d30a0f42d4a8dc3b8de77fb0c1@167.172.48.169:8080
CATEGORIES:Sixth Mandelstam Theoretical Physics School and Workshop 2024
CONTACT:http://neo.phys.wits.ac.za/mand6/
CREATED:20250908T094045Z
LAST-MODIFIED:20250909T061358Z
LOCATION:University of the Witwatersrand
URL:https://p22.juizi.com/nithecs/events/sixth-mandelstam-theoretical-phys
 ics-school-and-workshop-2024-recent-developments-in-large-n-holography-and
 -complexity/2024-01-12
END:VEVENT
END:VCALENDAR
