BEGIN:VCALENDAR
VERSION:2.0
PRODID:-//Plone.org//NONSGML plone.app.event//EN
X-WR-TIMEZONE:Africa/Johannesburg
BEGIN:VEVENT
SUMMARY:South African Gravity Society\, Stellenbosch University & NITheCS 
 Public Lecture ‘Tuning in to cosmic symphonies with giant radio telescop
 es’
DTSTART;TZID=Africa/Johannesburg:20240819T170000
DTEND;TZID=Africa/Johannesburg:20240819T180000
DTSTAMP:20260420T090917Z
UID:568ac7822a584bf483a0b3f1ab69bf9d@167.172.48.169:8080
CATEGORIES:South African Gravity Society\, Stellenbosch University & NIThe
 CS Public Lecture
CONTACT:Prof Roger Deane (University of the Witwatersrand / University of 
 Pretoria)
CREATED:20250908T154434Z
LAST-MODIFIED:20250909T061115Z
URL:https://p22.juizi.com/nithecs/events/south-african-gravity-society-ste
 llenbosch-university-nithecs-public-lecture-tuning-in-to-cosmic-symphonies
 -with-giant-radio-telescopes
END:VEVENT
BEGIN:VTIMEZONE
TZID:Africa/Johannesburg
X-LIC-LOCATION:Africa/Johannesburg
BEGIN:STANDARD
DTSTART:19440319T010000
TZNAME:SAST
TZOFFSETFROM:+0300
TZOFFSETTO:+0200
END:STANDARD
END:VTIMEZONE
END:VCALENDAR
