BEGIN:VCALENDAR
VERSION:2.0
PRODID:-//Plone.org//NONSGML plone.app.event//EN
X-WR-TIMEZONE:Africa/Johannesburg
BEGIN:VEVENT
SUMMARY:Spring School ‘Theoretical and Computational Foundations of Quan
 tum Technologies’
DTSTART;TZID=Africa/Johannesburg:20231027T100000
DTEND;TZID=Africa/Johannesburg:20231027T110000
DTSTAMP:20260420T120400Z
UID:e1c3f1f9962844e1956e3138c115ce37@167.172.48.169:8080
CATEGORIES:Spring School on Theoretical and Computational Foundations of Q
 uantum Technologies,Spring School
CREATED:20250908T085948Z
LAST-MODIFIED:20250909T061404Z
URL:https://p22.juizi.com/nithecs/events/spring-school-theoretical-and-com
 putational-foundations-of-quantum-technologies/2023-10-27
END:VEVENT
BEGIN:VTIMEZONE
TZID:Africa/Johannesburg
X-LIC-LOCATION:Africa/Johannesburg
BEGIN:STANDARD
DTSTART:19440319T010000
TZNAME:SAST
TZOFFSETFROM:+0300
TZOFFSETTO:+0200
END:STANDARD
END:VTIMEZONE
END:VCALENDAR
