BEGIN:VCALENDAR
VERSION:2.0
PRODID:-//Plone.org//NONSGML plone.app.event//EN
X-WR-TIMEZONE:Africa/Johannesburg
BEGIN:VEVENT
SUMMARY:Stellenbosch Laser Student Chapter Science Talk ‘Quantum Possibi
 lities: Shaping the future of innovation’
DTSTART;TZID=Africa/Johannesburg:20240516T140000
DTEND;TZID=Africa/Johannesburg:20240516T150000
DTSTAMP:20260420T140844Z
UID:62860823253645ab81deb7160220fef6@167.172.48.169:8080
CATEGORIES:Stellenbosch Laser Student Chapter Science Talk
CONTACT:Dr Yaseera Ismail (Stellenbosch University)
CREATED:20250908T125242Z
LAST-MODIFIED:20250909T061201Z
URL:https://p22.juizi.com/nithecs/events/stellenbosch-laser-student-chapte
 r-science-talk-quantum-possibilities-shaping-the-future-of-innovation
END:VEVENT
BEGIN:VTIMEZONE
TZID:Africa/Johannesburg
X-LIC-LOCATION:Africa/Johannesburg
BEGIN:STANDARD
DTSTART:19440319T010000
TZNAME:SAST
TZOFFSETFROM:+0300
TZOFFSETTO:+0200
END:STANDARD
END:VTIMEZONE
END:VCALENDAR
