BEGIN:VCALENDAR
VERSION:2.0
PRODID:-//Plone.org//NONSGML plone.app.event//EN
X-WR-TIMEZONE:Africa/Johannesburg
BEGIN:VEVENT
SUMMARY:Teacher Training: Edu Day ‘Enhance your professional development
 ’
DTSTART;TZID=Africa/Johannesburg:20240622T150000
DTEND;TZID=Africa/Johannesburg:20240622T160000
DTSTAMP:20260420T120154Z
UID:4146c1316b714b72a9cdf8d7f53b93ed@167.172.48.169:8080
CATEGORIES:Teacher Training: Edu Day,Teacher Training
CONTACT:Dr Cerene Rathilal (University of KwaZulu-Natal) and Dr Lungile Si
 tole (University of Johannesburg Soweto Science Centre)
CREATED:20250908T134132Z
LAST-MODIFIED:20250909T061154Z
URL:https://p22.juizi.com/nithecs/events/teacher-training-edu-day-enhance-
 your-professional-development
END:VEVENT
BEGIN:VTIMEZONE
TZID:Africa/Johannesburg
X-LIC-LOCATION:Africa/Johannesburg
BEGIN:STANDARD
DTSTART:19440319T010000
TZNAME:SAST
TZOFFSETFROM:+0300
TZOFFSETTO:+0200
END:STANDARD
END:VTIMEZONE
END:VCALENDAR
