BEGIN:VCALENDAR
VERSION:2.0
PRODID:-//Plone.org//NONSGML plone.app.event//EN
X-WR-TIMEZONE:Africa/Johannesburg
BEGIN:VEVENT
SUMMARY:UN Office on Drugs & Crime Hackathon
DTSTART;TZID=Africa/Johannesburg:20240915T170000
DTEND;TZID=Africa/Johannesburg:20240915T180000
DTSTAMP:20260420T090538Z
UID:0171cdfeb60042a88ad410177c1063ce@167.172.48.169:8080
CONTACT:https://knowledgefound.org/hackathons/#
CREATED:20250908T160213Z
LAST-MODIFIED:20250909T061042Z
URL:https://p22.juizi.com/nithecs/events/un-office-on-drugs-crime-hackatho
 n/2024-09-15
END:VEVENT
BEGIN:VTIMEZONE
TZID:Africa/Johannesburg
X-LIC-LOCATION:Africa/Johannesburg
BEGIN:STANDARD
DTSTART:19440319T010000
TZNAME:SAST
TZOFFSETFROM:+0300
TZOFFSETTO:+0200
END:STANDARD
END:VTIMEZONE
END:VCALENDAR
